BEGIN:VCALENDAR
VERSION:2.0
PRODID:-//Stichting Ykeallo - ECPv6.15.20//NONSGML v1.0//EN
CALSCALE:GREGORIAN
METHOD:PUBLISH
X-ORIGINAL-URL:https://stichting-ykeallo.nl
X-WR-CALDESC:Events for Stichting Ykeallo
REFRESH-INTERVAL;VALUE=DURATION:PT1H
X-Robots-Tag:noindex
X-PUBLISHED-TTL:PT1H
BEGIN:VTIMEZONE
TZID:Europe/Amsterdam
BEGIN:DAYLIGHT
TZOFFSETFROM:+0100
TZOFFSETTO:+0200
TZNAME:CEST
DTSTART:20200329T010000
END:DAYLIGHT
BEGIN:STANDARD
TZOFFSETFROM:+0200
TZOFFSETTO:+0100
TZNAME:CET
DTSTART:20201025T010000
END:STANDARD
BEGIN:DAYLIGHT
TZOFFSETFROM:+0100
TZOFFSETTO:+0200
TZNAME:CEST
DTSTART:20210328T010000
END:DAYLIGHT
BEGIN:STANDARD
TZOFFSETFROM:+0200
TZOFFSETTO:+0100
TZNAME:CET
DTSTART:20211031T010000
END:STANDARD
BEGIN:DAYLIGHT
TZOFFSETFROM:+0100
TZOFFSETTO:+0200
TZNAME:CEST
DTSTART:20220327T010000
END:DAYLIGHT
BEGIN:STANDARD
TZOFFSETFROM:+0200
TZOFFSETTO:+0100
TZNAME:CET
DTSTART:20221030T010000
END:STANDARD
END:VTIMEZONE
BEGIN:VEVENT
DTSTART;TZID=Europe/Amsterdam:20211206T130000
DTEND;TZID=Europe/Amsterdam:20211206T170000
DTSTAMP:20260424T024817
CREATED:20211201T154529Z
LAST-MODIFIED:20211201T154529Z
UID:1916-1638795600-1638810000@stichting-ykeallo.nl
SUMMARY:Spreekuur Stek West
DESCRIPTION:
URL:https://stichting-ykeallo.nl/event/spreekuur-stek-west/
LOCATION:Stek West\, Tweede Christiaan Huijgensstraat 39\, Amsterdam\, Netherlands
CATEGORIES:Spreekuur Stek West
END:VEVENT
END:VCALENDAR