BEGIN:VCALENDAR
VERSION:2.0
PRODID:spatie/icalendar-generator
DESCRIPTION:Events from Stichting Ykeallo
X-WR-CALDESC:Events from Stichting Ykeallo
REFRESH-INTERVAL;VALUE=DURATION:PT1440M
X-PUBLISHED-TTL:PT1440M
BEGIN:VTIMEZONE
TZID:Europe/Amsterdam
BEGIN:STANDARD
DTSTART:20231029T030000Z
TZOFFSETFROM:+0200
TZOFFSETTO:+0100
END:STANDARD
BEGIN:DAYLIGHT
DTSTART:20240331T020000Z
TZOFFSETFROM:+0100
TZOFFSETTO:+0200
END:DAYLIGHT
BEGIN:STANDARD
DTSTART:20241027T030000Z
TZOFFSETFROM:+0200
TZOFFSETTO:+0100
END:STANDARD
END:VTIMEZONE
BEGIN:VTIMEZONE
TZID:UTC
BEGIN:STANDARD
DTSTART:20250726T170559Z
TZOFFSETFROM:+0000
TZOFFSETTO:+0000
END:STANDARD
END:VTIMEZONE
BEGIN:VEVENT
UID:881-16
DTSTAMP:20260422T170559Z
SUMMARY:Habognatat
LOCATION:Startblok Riekerhaven Handbalstraat 740  Amsterdam
ORGANIZER;CN=Ykeallo:MAILTO:mokie55@hotmail.com
RRULE:FREQ=WEEKLY;UNTIL=20240625T000000Z
DTSTART;TZID=Europe/Amsterdam:20240529T150000
DTEND;TZID=Europe/Amsterdam:20240529T180000
X-ALT-DESC;FMTTYPE=TEXT/HTML:Heb jij een vraag over je huiswerk? Moet je ee
 n sollicitatie voorbereiden? Of wil je gewoon mooie nieuwe woorden leren? 
 Kom langs op woensdagmiddag in de sportkantine bij startblok Riekerhaven e
 n stel je vraag! Elke woensdagmiddag zijn er mensen aanwezig die jou wille
 n helpen\, even op de kinderen willen passen of gewoon gezellig willen kle
 tsen.&amp;hellip\;
CATEGORIES:Habognatat
URL;VALUE=URI:https://stichting-ykeallo.nl/activiteiten/?mc_id=881&#038;vca
 l=881
METHOD:PUBLISH
END:VEVENT
END:VCALENDAR